BEGIN:VCALENDAR
VERSION:2.0
PRODID:-//ddaysoftware.com//NONSGML DDay.iCal 1.0//EN
BEGIN:VTIMEZONE
TZID:W. Europe Standard Time
BEGIN:STANDARD
DTSTART:20251002T030000
RRULE:FREQ=YEARLY;BYDAY=-1SU;BYHOUR=3;BYMINUTE=0;BYMONTH=10
TZNAME:Mitteleuropäische Zeit
TZOFFSETFROM:+0200
TZOFFSETTO:+0100
END:STANDARD
BEGIN:DAYLIGHT
DTSTART:20250301T020000
RRULE:FREQ=YEARLY;BYDAY=-1SU;BYHOUR=2;BYMINUTE=0;BYMONTH=3
TZNAME:Mitteleuropäische Sommerzeit
TZOFFSETFROM:+0100
TZOFFSETTO:+0200
END:DAYLIGHT
END:VTIMEZONE
BEGIN:VEVENT
CATEGORIES:Sonstiges
DESCRIPTION:Kirchenzug Richtung Basilika über Ortsstraße Am Anger - Gundela
 uer Str.  - Guntherweg\n18:00 Uhr Gottesdienst\n18:45 Uhr Andacht beim Kri
 egerdenkmal vor der Basilika\n\nVeranstalter: Krieger- und Reservistenvere
 in Niederalteich e.V.\n\nhttps://www.niederalteich.de/aktuelles/veranstalt
 ungskalender/veranstaltung-zum-volkstrauertag-2026/
DTEND:20261115T180000
DTSTAMP:20260421T200044Z
DTSTART:20261115T170000
LOCATION:Basilika Niederalteich: Tassilostraße 6\, 94557 Niederalteich
SEQUENCE:0
SUMMARY:Veranstaltung zum Volkstrauertag Krieger- und Reservistenverein e. 
 V.
UID:126375
URL:https://www.niederalteich.de/aktuelles/veranstaltungskalender/veranstal
 tung-zum-volkstrauertag-2026/
END:VEVENT
END:VCALENDAR
