BEGIN:VCALENDAR
VERSION:2.0
PRODID:-//ddaysoftware.com//NONSGML DDay.iCal 1.0//EN
BEGIN:VTIMEZONE
TZID:W. Europe Standard Time
BEGIN:STANDARD
DTSTART:20251002T030000
RRULE:FREQ=YEARLY;BYDAY=-1SU;BYHOUR=3;BYMINUTE=0;BYMONTH=10
TZNAME:Mitteleuropäische Zeit
TZOFFSETFROM:+0200
TZOFFSETTO:+0100
END:STANDARD
BEGIN:DAYLIGHT
DTSTART:20250301T020000
RRULE:FREQ=YEARLY;BYDAY=-1SU;BYHOUR=2;BYMINUTE=0;BYMONTH=3
TZNAME:Mitteleuropäische Sommerzeit
TZOFFSETFROM:+0100
TZOFFSETTO:+0200
END:DAYLIGHT
END:VTIMEZONE
BEGIN:VEVENT
CATEGORIES:Feste
CATEGORIES:Musik
DESCRIPTION:- mit Kunsthandwerkermarkt\n- Spiel & Spass für Kinder\n- klein
 e Tanz- & Gesangseinlagen\n- Tombola mit tollen Gewinnen!\n\nVeranstalter:
  St. Ursula Hospiz Niederalteich\n\nhttps://www.niederalteich.de/aktuelles
 /veranstaltungskalender/sommerfest-st-ursula-hospiz-2026/
DTEND:20260705T120000
DTSTAMP:20260421T194900Z
DTSTART:20260705T110000
LOCATION:Hospiz: St.-Ursula-Weg 5\, 94557 Niederalteich
SEQUENCE:0
SUMMARY:Sommerfest St.-Ursula Hospiz
UID:126376
URL:https://www.niederalteich.de/aktuelles/veranstaltungskalender/sommerfes
 t-st-ursula-hospiz-2026/
END:VEVENT
END:VCALENDAR
