BEGIN:VCALENDAR
VERSION:2.0
PRODID:-//ddaysoftware.com//NONSGML DDay.iCal 1.0//EN
BEGIN:VTIMEZONE
TZID:W. Europe Standard Time
BEGIN:STANDARD
DTSTART:20251002T030000
RRULE:FREQ=YEARLY;BYDAY=-1SU;BYHOUR=3;BYMINUTE=0;BYMONTH=10
TZNAME:Mitteleuropäische Zeit
TZOFFSETFROM:+0200
TZOFFSETTO:+0100
END:STANDARD
BEGIN:DAYLIGHT
DTSTART:20250301T020000
RRULE:FREQ=YEARLY;BYDAY=-1SU;BYHOUR=2;BYMINUTE=0;BYMONTH=3
TZNAME:Mitteleuropäische Sommerzeit
TZOFFSETFROM:+0100
TZOFFSETTO:+0200
END:DAYLIGHT
END:VTIMEZONE
BEGIN:VEVENT
CATEGORIES:Versammlung
DESCRIPTION:\n\nVeranstalter: Krieger- und Reservistenverein Niederalteich 
 e.V.\n\nhttps://www.niederalteich.de/aktuelles/veranstaltungskalender/jahr
 eshauptversammlung-krieger-und-reservistenverein-14112026/
DTEND:20261114T203000
DTSTAMP:20260421T200053Z
DTSTART:20261114T193000
LOCATION:Café am Kirchplatz: Am Kirchplatz 1\, 94557 Niederalteich
SEQUENCE:0
SUMMARY:Jahreshauptversammlung Krieger- und Reservistenverein e. V.
UID:126374
URL:https://www.niederalteich.de/aktuelles/veranstaltungskalender/jahreshau
 ptversammlung-krieger-und-reservistenverein-14112026/
END:VEVENT
END:VCALENDAR
