BEGIN:VCALENDAR
VERSION:2.0
PRODID:-//ddaysoftware.com//NONSGML DDay.iCal 1.0//EN
BEGIN:VTIMEZONE
TZID:W. Europe Standard Time
BEGIN:STANDARD
DTSTART:20251002T030000
RRULE:FREQ=YEARLY;BYDAY=-1SU;BYHOUR=3;BYMINUTE=0;BYMONTH=10
TZNAME:Mitteleuropäische Zeit
TZOFFSETFROM:+0200
TZOFFSETTO:+0100
END:STANDARD
BEGIN:DAYLIGHT
DTSTART:20250301T020000
RRULE:FREQ=YEARLY;BYDAY=-1SU;BYHOUR=2;BYMINUTE=0;BYMONTH=3
TZNAME:Mitteleuropäische Sommerzeit
TZOFFSETFROM:+0100
TZOFFSETTO:+0200
END:DAYLIGHT
END:VTIMEZONE
BEGIN:VEVENT
CATEGORIES:Musik
DESCRIPTION:Friedensmarsch zur Gundlau-Kapelle mit anschließender Maiandach
 t\n\nVeranstalter: Krieger- und Reservistenverein Niederalteich e.V.\n\nht
 tps://www.niederalteich.de/aktuelles/veranstaltungskalender/friedensmarsch
 -krv-22052026/
DTEND:20260522T180000
DTSTAMP:20260421T195512Z
DTSTART:20260522T170000
LOCATION:Basilika Niederalteich: Tassilostraße 6\, 94557 Niederalteich
SEQUENCE:0
SUMMARY:Friedensmarsch KRV
UID:126373
URL:https://www.niederalteich.de/aktuelles/veranstaltungskalender/friedensm
 arsch-krv-22052026/
END:VEVENT
END:VCALENDAR
